BEGIN:VCALENDAR
VERSION:2.0
PRODID:-//Kallayanee’s Kitchen Thai Cooking Classes on Vancouver Island - ECPv6.15.20//NONSGML v1.0//EN
CALSCALE:GREGORIAN
METHOD:PUBLISH
X-WR-CALNAME:Kallayanee’s Kitchen Thai Cooking Classes on Vancouver Island
X-ORIGINAL-URL:https://kallayaneeskitchen.com
X-WR-CALDESC:Events for Kallayanee’s Kitchen Thai Cooking Classes on Vancouver Island
REFRESH-INTERVAL;VALUE=DURATION:PT1H
X-Robots-Tag:noindex
X-PUBLISHED-TTL:PT1H
BEGIN:VTIMEZONE
TZID:America/Vancouver
BEGIN:DAYLIGHT
TZOFFSETFROM:-0800
TZOFFSETTO:-0700
TZNAME:PDT
DTSTART:20240310T100000
END:DAYLIGHT
BEGIN:STANDARD
TZOFFSETFROM:-0700
TZOFFSETTO:-0800
TZNAME:PST
DTSTART:20241103T090000
END:STANDARD
BEGIN:DAYLIGHT
TZOFFSETFROM:-0800
TZOFFSETTO:-0700
TZNAME:PDT
DTSTART:20250309T100000
END:DAYLIGHT
BEGIN:STANDARD
TZOFFSETFROM:-0700
TZOFFSETTO:-0800
TZNAME:PST
DTSTART:20251102T090000
END:STANDARD
BEGIN:DAYLIGHT
TZOFFSETFROM:-0800
TZOFFSETTO:-0700
TZNAME:PDT
DTSTART:20260308T100000
END:DAYLIGHT
BEGIN:STANDARD
TZOFFSETFROM:-0700
TZOFFSETTO:-0800
TZNAME:PST
DTSTART:20261101T090000
END:STANDARD
END:VTIMEZONE
BEGIN:VEVENT
DTSTART;TZID=America/Vancouver:20250315T143000
DTEND;TZID=America/Vancouver:20250315T170000
DTSTAMP:20260421T085108
CREATED:20250131T071638Z
LAST-MODIFIED:20250131T071639Z
UID:811879-1742049000-1742058000@kallayaneeskitchen.com
SUMMARY:Thai Classic Favorites
DESCRIPTION:BOOK NOW\n			\n			\n				\n				\n				\n				\n			\n				\n				\n				\n				\n				\n				\n				\n				\n				\n				\n				\n			\n			\n				\n				\n				\n				\n			\n				\n				\n			\n				\n				\n				\n				\n				\n				\n				\n				\n				\n				\n				\n				\n				\n				\n				\n				\n				\n				Thai Spring Rolls\nHot and crunchy\, these delectable Asian appetizers are a great opener for any meal. \nThai Coconut Soup\nEveryone enjoys this smooth and comforting coconut soup with chicken. \nPhad Thai\nA popular spicy noodle dish that you can make as hot as you like. \nVegetable Stir Fry with Cashews and Chili\nCashews grow naturally in Thailand and are enjoyed year round in dishes like this \nRed Curry Chicken\nA deeply satisfying blend of red curry paste\, Thai Sweet Basil and coconut milk.\n			\n			\n				\n				\n				\n				\n			\n				\n				\n			\n				\n				\n				\n				\n				\n				\n				\n				\n				\n				\n				\n				\n				\n				\n				\n				\n				\n				Thai Spring RollsPhad Thai NoodlesThai Coconut SoupVegetable Stir Fry with Cashews and ChiliRed Curry Chicken
URL:https://kallayaneeskitchen.com/event/thai-classic-favorites-6/
LOCATION:Kallayanee’s Kitchen\, 1455 McTavish Road\, North Saanich\, British Columbia\, V8L 5T3\, Canada
CATEGORIES:Standard Thai Cooking Class
ATTACH;FMTTYPE=image/jpeg:https://kallayaneeskitchen.com/wp-content/uploads/2024/11/kaki_prv-l1mx-roden-220930-017.jpg
ORGANIZER;CN="Ry Glover":MAILTO:kallayaneeskitchen@gmail.com
END:VEVENT
BEGIN:VEVENT
DTSTART;TZID=America/Vancouver:20250314T143000
DTEND;TZID=America/Vancouver:20250314T170000
DTSTAMP:20260421T085108
CREATED:20250131T072347Z
LAST-MODIFIED:20250131T072350Z
UID:811941-1741962600-1741971600@kallayaneeskitchen.com
SUMMARY:Thai Classic Favorites
DESCRIPTION:BOOK NOW\n			\n			\n				\n				\n				\n				\n			\n				\n				\n				\n				\n				\n				\n				\n				\n				\n				\n				\n			\n			\n				\n				\n				\n				\n			\n				\n				\n			\n				\n				\n				\n				\n				\n				\n				\n				\n				\n				\n				\n				\n				\n				\n				\n				\n				\n				Thai Spring Rolls\nHot and crunchy\, these delectable Asian appetizers are a great opener for any meal. \nThai Coconut Soup\nEveryone enjoys this smooth and comforting coconut soup with chicken. \nPhad Thai\nA popular spicy noodle dish that you can make as hot as you like. \nVegetable Stir Fry with Cashews and Chili\nCashews grow naturally in Thailand and are enjoyed year round in dishes like this \nRed Curry Chicken\nA deeply satisfying blend of red curry paste\, Thai Sweet Basil and coconut milk.\n			\n			\n				\n				\n				\n				\n			\n				\n				\n			\n				\n				\n				\n				\n				\n				\n				\n				\n				\n				\n				\n				\n				\n				\n				\n				\n				\n				Thai Spring RollsPhad Thai NoodlesThai Coconut SoupVegetable Stir Fry with Cashews and ChiliRed Curry Chicken
URL:https://kallayaneeskitchen.com/event/thai-classic-favorites-4/
LOCATION:Kallayanee’s Kitchen\, 1455 McTavish Road\, North Saanich\, British Columbia\, V8L 5T3\, Canada
CATEGORIES:Standard Thai Cooking Class
ATTACH;FMTTYPE=image/jpeg:https://kallayaneeskitchen.com/wp-content/uploads/2024/11/kaki_prv-l1mx-roden-220930-017.jpg
ORGANIZER;CN="Ry Glover":MAILTO:kallayaneeskitchen@gmail.com
END:VEVENT
END:VCALENDAR