BEGIN:VCALENDAR
VERSION:2.0
PRODID:-//Kallayanee’s Kitchen Thai Cooking Classes on Vancouver Island - ECPv6.15.20//NONSGML v1.0//EN
CALSCALE:GREGORIAN
METHOD:PUBLISH
X-WR-CALNAME:Kallayanee’s Kitchen Thai Cooking Classes on Vancouver Island
X-ORIGINAL-URL:https://kallayaneeskitchen.com
X-WR-CALDESC:Events for Kallayanee’s Kitchen Thai Cooking Classes on Vancouver Island
REFRESH-INTERVAL;VALUE=DURATION:PT1H
X-Robots-Tag:noindex
X-PUBLISHED-TTL:PT1H
BEGIN:VTIMEZONE
TZID:America/Vancouver
BEGIN:DAYLIGHT
TZOFFSETFROM:-0800
TZOFFSETTO:-0700
TZNAME:PDT
DTSTART:20250309T100000
END:DAYLIGHT
BEGIN:STANDARD
TZOFFSETFROM:-0700
TZOFFSETTO:-0800
TZNAME:PST
DTSTART:20251102T090000
END:STANDARD
BEGIN:DAYLIGHT
TZOFFSETFROM:-0800
TZOFFSETTO:-0700
TZNAME:PDT
DTSTART:20260308T100000
END:DAYLIGHT
BEGIN:STANDARD
TZOFFSETFROM:-0700
TZOFFSETTO:-0800
TZNAME:PST
DTSTART:20261101T090000
END:STANDARD
BEGIN:DAYLIGHT
TZOFFSETFROM:-0800
TZOFFSETTO:-0700
TZNAME:PDT
DTSTART:20270314T100000
END:DAYLIGHT
BEGIN:STANDARD
TZOFFSETFROM:-0700
TZOFFSETTO:-0800
TZNAME:PST
DTSTART:20271107T090000
END:STANDARD
END:VTIMEZONE
BEGIN:VEVENT
DTSTART;TZID=America/Vancouver:20260503T143000
DTEND;TZID=America/Vancouver:20260503T170000
DTSTAMP:20260421T082501
CREATED:20250725T225948Z
LAST-MODIFIED:20251212T183447Z
UID:812302-1777818600-1777827600@kallayaneeskitchen.com
SUMMARY:Royal Vegetarian Celebration
DESCRIPTION:BOOK NOW\n			\n			\n				\n				\n				\n				\n			\n				\n				\n				\n				\n				\n				\n				\n				\n				\n				\n				\n			\n			\n				\n				\n				\n				\n			\n				\n				\n			\n				\n				\n				\n				\n				\n				\n				\n				\n				\n				\n				\n				\n				\n				\n				\n				\n				\n				Vegetarian Gyoza\nSpicy hot appetizers flavoured with chili and packed with Shitake mushrooms. \nVegetarian Tom Yum Soup\nOyster mushrooms replace fish in this version of the Thai soup\, spiced with lemongrass and galangal. \nSweet Potato Curry\nA vegetarian variation of the very popular Thai green curry\, with eggplant and Thai sweet basil. \nVegetarian Salad Rolls\nTofu\, rice noodles\, carrots\, cilantro\, and bean sprouts are served with a delicious peanut sauce. \nMixed Stir-Fry Vegetables with Noodles\nVermicelli noodles\, tomatoes and Shitake mushrooms are sautéed in tasty Thai spices. \n			\n			\n				\n				\n				\n				\n			\n				\n				\n			\n				\n				\n				\n				\n				\n				\n				\n				\n				\n				\n				\n				\n				\n				\n				\n				\n				\n				Tiger Prawn Salad with Snow PeasLeaf-Wrapped ChickenThai Traditional Noodle SoupBarbecue PorkMekong Salad Rolls
URL:https://kallayaneeskitchen.com/event/hot-spicy-veggies/
LOCATION:Kallayanee’s Kitchen\, 1455 McTavish Road\, North Saanich\, British Columbia\, V8L 5T3\, Canada
CATEGORIES:Standard Thai Cooking Class
ATTACH;FMTTYPE=image/jpeg:https://kallayaneeskitchen.com/wp-content/uploads/2016/05/kaki_veg2_gyoza_veg-width-1080.jpg
ORGANIZER;CN="Ry Glover":MAILTO:kallayaneeskitchen@gmail.com
END:VEVENT
END:VCALENDAR