BEGIN:VCALENDAR
VERSION:2.0
PRODID:-//Kallayanee’s Kitchen Thai Cooking Classes on Vancouver Island - ECPv6.15.20//NONSGML v1.0//EN
CALSCALE:GREGORIAN
METHOD:PUBLISH
X-ORIGINAL-URL:https://kallayaneeskitchen.com
X-WR-CALDESC:Events for Kallayanee’s Kitchen Thai Cooking Classes on Vancouver Island
REFRESH-INTERVAL;VALUE=DURATION:PT1H
X-Robots-Tag:noindex
X-PUBLISHED-TTL:PT1H
BEGIN:VTIMEZONE
TZID:America/Vancouver
BEGIN:DAYLIGHT
TZOFFSETFROM:-0800
TZOFFSETTO:-0700
TZNAME:PDT
DTSTART:20250309T100000
END:DAYLIGHT
BEGIN:STANDARD
TZOFFSETFROM:-0700
TZOFFSETTO:-0800
TZNAME:PST
DTSTART:20251102T090000
END:STANDARD
BEGIN:DAYLIGHT
TZOFFSETFROM:-0800
TZOFFSETTO:-0700
TZNAME:PDT
DTSTART:20260308T100000
END:DAYLIGHT
BEGIN:STANDARD
TZOFFSETFROM:-0700
TZOFFSETTO:-0800
TZNAME:PST
DTSTART:20261101T090000
END:STANDARD
BEGIN:DAYLIGHT
TZOFFSETFROM:-0800
TZOFFSETTO:-0700
TZNAME:PDT
DTSTART:20270314T100000
END:DAYLIGHT
BEGIN:STANDARD
TZOFFSETFROM:-0700
TZOFFSETTO:-0800
TZNAME:PST
DTSTART:20271107T090000
END:STANDARD
END:VTIMEZONE
BEGIN:VEVENT
DTSTART;TZID=America/Vancouver:20260418T143000
DTEND;TZID=America/Vancouver:20260418T170000
DTSTAMP:20260421T083013
CREATED:20241105T172452Z
LAST-MODIFIED:20251107T231633Z
UID:811305-1776522600-1776531600@kallayaneeskitchen.com
SUMMARY:Ginger Beef and Friends
DESCRIPTION:BOOK NOW\n			\n			\n				\n				\n				\n				\n			\n				\n				\n				\n				\n				\n				\n				\n				\n				\n				\n				\n			\n			\n				\n				\n				\n				\n			\n				\n				\n			\n				\n				\n				\n				\n				\n				\n				\n				\n				\n				\n				\n				\n				\n				\n				\n				\n				\n				Bitter Melon Soup\nA refreshing light soup best enjoyed on a summer evening as a prelude to laughter\, good friends\, and many wonderful dishes to come. \nThai Corn Fritters\nRed curry paste is the key ingredient in these crunchy little corn delights. They are great served as an appetizer with chilled beer\, or as an accompaniment to a main dish. Cucumber vinegar sauce is a wonderful sweet and sour complement to these golden nuggets. \nBlack Cilantro Ribs\nAny dish that combines rice vinegar\, sweet soy sauce\, coconut sugar\, ground cilantro\, and sesame oil must be interesting — especially when combined with the finest quality of pork back ribs. \nMixed Vegetables\nA healthy assortment of veggies including Gai Leng\, Bok Choy\, Snow Peas\, Bell Peppers\, garlic and chopped ginger \nSpicy Ginger Beef\nOnly the highest quality of beef should be used for this exotic combination of spices and herbs including Tamari soy sauce\, Sriracha sauce\, chilli garlic sauce\, and sweet Thai Chillis.\n			\n			\n				\n				\n				\n				\n			\n				\n				\n			\n				\n				\n				\n				\n				\n				\n				\n				\n				\n				\n				\n				\n				\n				\n				\n				\n				\n				Thai Corn FrittersBitter Melon SoupBlack Cilantro RibsMixed VegetablesSpicy Ginger BeefMixed VegetablesA delicious serving from the class
URL:https://kallayaneeskitchen.com/event/ginger-beef-and-friends-satay/
LOCATION:Kallayanee’s Kitchen\, 1455 McTavish Road\, North Saanich\, British Columbia\, V8L 5T3\, Canada
CATEGORIES:Standard Thai Cooking Class
ATTACH;FMTTYPE=image/jpeg:https://kallayaneeskitchen.com/wp-content/uploads/2023/07/kaki_seniors-2-230129-074.jpg
ORGANIZER;CN="Ry Glover":MAILTO:kallayaneeskitchen@gmail.com
END:VEVENT
END:VCALENDAR