BEGIN:VCALENDAR
VERSION:2.0
PRODID:-//Kallayanee’s Kitchen Thai Cooking Classes on Vancouver Island - ECPv6.15.20//NONSGML v1.0//EN
CALSCALE:GREGORIAN
METHOD:PUBLISH
X-WR-CALNAME:Kallayanee’s Kitchen Thai Cooking Classes on Vancouver Island
X-ORIGINAL-URL:https://kallayaneeskitchen.com
X-WR-CALDESC:Events for Kallayanee’s Kitchen Thai Cooking Classes on Vancouver Island
REFRESH-INTERVAL;VALUE=DURATION:PT1H
X-Robots-Tag:noindex
X-PUBLISHED-TTL:PT1H
BEGIN:VTIMEZONE
TZID:America/Vancouver
BEGIN:DAYLIGHT
TZOFFSETFROM:-0800
TZOFFSETTO:-0700
TZNAME:PDT
DTSTART:20250309T100000
END:DAYLIGHT
BEGIN:STANDARD
TZOFFSETFROM:-0700
TZOFFSETTO:-0800
TZNAME:PST
DTSTART:20251102T090000
END:STANDARD
BEGIN:DAYLIGHT
TZOFFSETFROM:-0800
TZOFFSETTO:-0700
TZNAME:PDT
DTSTART:20260308T100000
END:DAYLIGHT
BEGIN:STANDARD
TZOFFSETFROM:-0700
TZOFFSETTO:-0800
TZNAME:PST
DTSTART:20261101T090000
END:STANDARD
BEGIN:DAYLIGHT
TZOFFSETFROM:-0800
TZOFFSETTO:-0700
TZNAME:PDT
DTSTART:20270314T100000
END:DAYLIGHT
BEGIN:STANDARD
TZOFFSETFROM:-0700
TZOFFSETTO:-0800
TZNAME:PST
DTSTART:20271107T090000
END:STANDARD
END:VTIMEZONE
BEGIN:VEVENT
DTSTART;TZID=America/Vancouver:20260315T143000
DTEND;TZID=America/Vancouver:20260315T170000
DTSTAMP:20260421T034614
CREATED:20251107T225143Z
LAST-MODIFIED:20251107T232155Z
UID:812771-1773585000-1773594000@kallayaneeskitchen.com
SUMMARY:Drunken Noodles Party
DESCRIPTION:BOOK NOW\n			\n			\n				\n				\n				\n				\n			\n				\n				\n				\n				\n				\n				\n				\n				\n				\n				\n				\n			\n			\n				\n				\n				\n				\n			\n				\n				\n			\n				\n				\n				\n				\n				\n				\n				\n				\n				\n				\n				\n				\n				\n				\n				\n				\n				\n				Drunken Noodles\nSoused in chili garlic and oyster sauce\, chicken breasts and noodles make a great combination. \nBeef and Basil Stir-Fry\nBeef tenderloin stir-fried in oyster sauce with the rich taste of Thai Basil\, spiced with chillies. \nChicken with Rice and Dipping Sauce\nOne of Thailand’s favourite traditional dishes\, it’s the sauce that makes the difference! \nThai Prawn Cakes\nA delicious treat\, deep fried in a tasty batter and served with sweet vinegar. \nHot & Spicy Vegetables\nSpicy red chillies and garlic make these vegetables a flavourful accompaniment to main dishes. \n			\n			\n				\n				\n				\n				\n			\n				\n				\n			\n				\n				\n				\n				\n				\n				\n				\n				\n				\n				\n				\n				\n				\n				\n				\n				\n				\n				Drunken NoodlesBeef and Basil Stir-FryChicken with Rice and Dipping SauceThai Prawn CakesHot & Spicy Vegetables
URL:https://kallayaneeskitchen.com/event/drunken-noodles-party-2/
LOCATION:Kallayanee’s Kitchen\, 1455 McTavish Road\, North Saanich\, British Columbia\, V8L 5T3\, Canada
CATEGORIES:Standard Thai Cooking Class
ATTACH;FMTTYPE=image/jpeg:https://kallayaneeskitchen.com/wp-content/uploads/2025/06/kaki_lesson-7-180424-050.jpg
ORGANIZER;CN="Ry Glover":MAILTO:kallayaneeskitchen@gmail.com
END:VEVENT
BEGIN:VEVENT
DTSTART;TZID=America/Vancouver:20260315T143000
DTEND;TZID=America/Vancouver:20260315T170000
DTSTAMP:20260421T034614
CREATED:20251212T184831Z
LAST-MODIFIED:20251212T211138Z
UID:812764-1773585000-1773594000@kallayaneeskitchen.com
SUMMARY:Drunken Noodles Party
DESCRIPTION:BOOK NOW\n			\n			\n				\n				\n				\n				\n			\n				\n				\n				\n				\n				\n				\n				\n				\n				\n				\n				\n			\n			\n				\n				\n				\n				\n			\n				\n				\n			\n				\n				\n				\n				\n				\n				\n				\n				\n				\n				\n				\n				\n				\n				\n				\n				\n				\n				Drunken Noodles\nSoused in chili garlic and oyster sauce\, chicken breasts and noodles make a great combination. \nBeef and Basil Stir-Fry\nBeef tenderloin stir-fried in oyster sauce with the rich taste of Thai Basil\, spiced with chillies. \nChicken with Rice and Dipping Sauce\nOne of Thailand’s favourite traditional dishes\, it’s the sauce that makes the difference! \nThai Prawn Cakes\nA delicious treat\, deep fried in a tasty batter and served with sweet vinegar. \nHot & Spicy Vegetables\nSpicy red chillies and garlic make these vegetables a flavourful accompaniment to main dishes. \n			\n			\n				\n				\n				\n				\n			\n				\n				\n			\n				\n				\n				\n				\n				\n				\n				\n				\n				\n				\n				\n				\n				\n				\n				\n				\n				\n				Drunken NoodlesBeef and Basil Stir-FryChicken with Rice and Dipping SauceThai Prawn CakesHot & Spicy Vegetables
URL:https://kallayaneeskitchen.com/event/drunken-noodles-party-3/
LOCATION:Kallayanee’s Kitchen\, 1455 McTavish Road\, North Saanich\, British Columbia\, V8L 5T3\, Canada
CATEGORIES:Standard Thai Cooking Class
ATTACH;FMTTYPE=image/jpeg:https://kallayaneeskitchen.com/wp-content/uploads/2025/06/kaki_lesson-7-180424-050.jpg
ORGANIZER;CN="Ry Glover":MAILTO:kallayaneeskitchen@gmail.com
END:VEVENT
END:VCALENDAR